BEGIN:VCALENDAR
VERSION:2.0
PRODID:-//hacksw/handcal//NONSGML v1.0//EN
BEGIN:VEVENT
SUMMARY:Finale nationale Senior Mixte par paires
UID:3bc8a466-4897-4362-9e00-b050795a8774
DTSTART:20260330T220000Z
DTEND:20260331T220000Z
LOCATION:Localisation   
CATEGORIES:Sportif
STATUS:
DESCRIPTION:<p>Finale nationale Senior Mixte par paires</p>
URL;VALUE=URI:https://bridgeclubple.sportsregions.fr/evenements/2026/03/31/finale-nationale-senior-mixte-par-paires-2440528
END:VEVENT
END:VCALENDAR
